BEGIN:VCALENDAR
VERSION:2.0
PRODID:-//GG RENTALS | Premium Vacation Rentals in Costa del Sol - ECPv6.15.18//NONSGML v1.0//EN
CALSCALE:GREGORIAN
METHOD:PUBLISH
X-WR-CALNAME:GG RENTALS | Premium Vacation Rentals in Costa del Sol
X-ORIGINAL-URL:https://ggholidayhomes.com
X-WR-CALDESC:Events for GG RENTALS | Premium Vacation Rentals in Costa del Sol
REFRESH-INTERVAL;VALUE=DURATION:PT1H
X-Robots-Tag:noindex
X-PUBLISHED-TTL:PT1H
BEGIN:VTIMEZONE
TZID:Europe/Madrid
BEGIN:DAYLIGHT
TZOFFSETFROM:+0100
TZOFFSETTO:+0200
TZNAME:CEST
DTSTART:20250330T010000
END:DAYLIGHT
BEGIN:STANDARD
TZOFFSETFROM:+0200
TZOFFSETTO:+0100
TZNAME:CET
DTSTART:20251026T010000
END:STANDARD
BEGIN:DAYLIGHT
TZOFFSETFROM:+0100
TZOFFSETTO:+0200
TZNAME:CEST
DTSTART:20260329T010000
END:DAYLIGHT
BEGIN:STANDARD
TZOFFSETFROM:+0200
TZOFFSETTO:+0100
TZNAME:CET
DTSTART:20261025T010000
END:STANDARD
BEGIN:DAYLIGHT
TZOFFSETFROM:+0100
TZOFFSETTO:+0200
TZNAME:CEST
DTSTART:20270328T010000
END:DAYLIGHT
BEGIN:STANDARD
TZOFFSETFROM:+0200
TZOFFSETTO:+0100
TZNAME:CET
DTSTART:20271031T010000
END:STANDARD
END:VTIMEZONE
BEGIN:VEVENT
DTSTART;TZID=Europe/Madrid:20260425T183000
DTEND;TZID=Europe/Madrid:20260426T010000
DTSTAMP:20260421T083141
CREATED:20251224T092137Z
LAST-MODIFIED:20260418T105645Z
UID:45059-1777141800-1777165200@ggholidayhomes.com
SUMMARY:2QS – LEGEND TÄISKOOSSEISUS MARBELLAS
DESCRIPTION:🎶 2QS – LEGEND TÄISKOOSSEISUS MARBELLAS 🎶🔥 Eesti muusika legendid Costa del Solis 🔥 \nÜks õhtu. Täismaja. Ajatu muusika.GG Events toob 2QS täiskoosseisus Marbellasse – õhtule\, kus kohtuvad head lood\, Vahemere õhkkond ja eestlaste kogukond. \n📅 25. aprill 2026📍 MoosaBay\, Marbella🍽 Õhtusöök: 18:30🎤 Live set I: 20:00🎤 Live set II: 22:00🎧 Õhtu lõpetab DJ Eesti parimate hittidega \n\n🎟 PILETID (kokku 300)\n🍽 LAUAD + ÕHTUSÖÖK (150 kohta)\n👉 159€ saadaval Piletilevis\nSisaldab:✔ 3-käiguline menüü✔ Joogid✔ Tervitusjook\n📩 LAUDADE ETTE BRONEERIMINE VAJALIKggbestevents@gmail.com | +372 5688 2701 \n\n🎶 PÜSTI (150 kohta)\n• 59 € – alates 01.01🥂 Tervitusjook hinnas\n\n👧 LASTEPILETID\n• 89 €(Laste menüü + karastusjoogid) \n\n🏡 Tule varem või jää kauemaks — ühenda kontsert puhkusereisiga!Majutus Costa del Solis:👉 www.ggholidayhomes.com/for-rent/ \n\n🎵 Kohtume Marbellas – laulame kaasa ja teeme ajalugu.2QS. Täiskoosseis. Üks eriline õhtu.
URL:https://ggholidayhomes.com/event/2qs-marbella/
LOCATION:MoosaBay Restaurant\, Av. Aragon 453\, Marbella\, Spain\, Marbella\,Malaga\, Andalucia\, 29604\, Spain
ATTACH;FMTTYPE=image/png:https://ggholidayhomes.com/wp-content/uploads/2025/12/2qs-on-iceee-scaled.png
ORGANIZER;CN="GG events":MAILTO:ggbestevents@gmail.com
END:VEVENT
BEGIN:VEVENT
DTSTART;TZID=Europe/Madrid:20261024T160000
DTEND;TZID=Europe/Madrid:20261025T000000
DTSTAMP:20260421T083141
CREATED:20260123T072115Z
LAST-MODIFIED:20260123T072115Z
UID:45137-1792857600-1792886400@ggholidayhomes.com
SUMMARY:SMILERS täiskoosseisus Marbellas 2026
DESCRIPTION:PEAGI ROHKEM INFOT TULEMAS. \nJÄLGIGE MEID SOTSIAALMEEDIAS 👇 \n  \nInstagram: \n@ggeventsgg \n@smilersiplaneet \n@hendriksalsaller \n  \nFacebook: \nG & G events \nSmilers
URL:https://ggholidayhomes.com/event/smilers-marbellas/
LOCATION:MoosaBay Restaurant\, Av. Aragon 453\, Marbella\, Spain\, Marbella\,Malaga\, Andalucia\, 29604\, Spain
ATTACH;FMTTYPE=image/png:https://ggholidayhomes.com/wp-content/uploads/2026/01/SMILERS-MARBELLA-scaled.png
ORGANIZER;CN="GG events":MAILTO:ggbestevents@gmail.com
END:VEVENT
END:VCALENDAR